Package: ClustAll Version: 1.0.2 Command: chmod a+r ClustAll -R && E:\biocbuild\bbs-3.19-bioc\R\bin\R.exe CMD build --keep-empty-dirs --no-resave-data ClustAll StartedAt: 2024-10-16 18:15:24 -0400 (Wed, 16 Oct 2024) EndedAt: 2024-10-16 18:20:28 -0400 (Wed, 16 Oct 2024) EllapsedTime: 304.2 seconds RetCode: 0 Status: OK PackageFile: ClustAll_1.0.2.tar.gz PackageFileSize: 2.775 <A href="http://en.wikipedia.org/wiki/MiB" target="_blank">MiB</A>