Package: ClustAll
Version: 1.0.2
Command: rm -rf ClustAll.buildbin-libdir && mkdir ClustAll.buildbin-libdir && E:\biocbuild\bbs-3.19-bioc\R\bin\R.exe CMD INSTALL --build --library=ClustAll.buildbin-libdir ClustAll_1.0.2.tar.gz
StartedAt: 2024-10-17 07:33:13 -0400 (Thu, 17 Oct 2024)
EndedAt: 2024-10-17 07:34:03 -0400 (Thu, 17 Oct 2024)
EllapsedTime: 49.7 seconds
RetCode: 0
Status: OK
PackageFile: ClustAll_1.0.2.zip
PackageFileSize: 2.097 <A href="http://en.wikipedia.org/wiki/MiB" target="_blank">MiB</A>