Package: ClustAll
Version: 1.0.0
Command: /home/biocbuild/R/R-beta-2024-04-15_r86425/bin/R CMD check --install=check:ClustAll.install-out.txt --library=/home/biocbuild/R/R-beta-2024-04-15_r86425/site-library --no-vignettes --timings ClustAll_1.0.0.tar.gz
StartedAt: 2024-05-09 05:55:16 -0000 (Thu, 09 May 2024)
EndedAt: 2024-05-09 05:59:54 -0000 (Thu, 09 May 2024)
EllapsedTime: 278.5 seconds
RetCode: 0
Status: OK
CheckDir: ClustAll.Rcheck
Warnings: 0