Package: ClassifyR
Version: 3.8.5
Maintainer: Dario Strbenac
MaintainerEmail: dario.strbenac at sydney.edu.au
git_url: https://git.bioconductor.org/packages/ClassifyR
git_branch: RELEASE_3_19
git_last_commit: 87a5d33
git_last_commit_date: 2024-10-04 08:45:03 -0400 (Fri, 04 Oct 2024)