Package: CircSeqAlignTk
Version: 1.6.0
Maintainer: Jianqiang Sun
MaintainerEmail: sun at biunit.dev
git_url: https://git.bioconductor.org/packages/CircSeqAlignTk
git_branch: RELEASE_3_19
git_last_commit: 2ee6670
git_last_commit_date: 2024-04-30 11:45:03 -0400 (Tue, 30 Apr 2024)