Package: ChemmineR
Version: 3.56.0
Maintainer: Thomas Girke
MaintainerEmail: thomas.girke at ucr.edu
git_url: https://git.bioconductor.org/packages/ChemmineR
git_branch: RELEASE_3_19
git_last_commit: 4a63c5e
git_last_commit_date: 2024-04-30 10:18:53 -0400 (Tue, 30 Apr 2024)