Package: ChIPsim
Version: 1.58.0
Maintainer: Peter Humburg
MaintainerEmail: Peter.Humburg at gmail.com
git_url: https://git.bioconductor.org/packages/ChIPsim
git_branch: RELEASE_3_19
git_last_commit: 90befd0
git_last_commit_date: 2024-04-30 10:20:27 -0400 (Tue, 30 Apr 2024)