Package: ChIPXpress
Version: 1.48.0
Maintainer: George Wu
MaintainerEmail: georgetwu at gmail.com
git_url: https://git.bioconductor.org/packages/ChIPXpress
git_branch: RELEASE_3_19
git_last_commit: 8803df4
git_last_commit_date: 2024-04-30 10:28:30 -0400 (Tue, 30 Apr 2024)