Package: ChIPComp
Version: 1.34.0
Command: /home/biocbuild/bbs-3.19-bioc/R/bin/R CMD check --install=check:ChIPComp.install-out.txt --library=/home/biocbuild/bbs-3.19-bioc/R/site-library --timings ChIPComp_1.34.0.tar.gz
StartedAt: 2024-10-16 22:41:40 -0400 (Wed, 16 Oct 2024)
EndedAt: 2024-10-16 22:46:19 -0400 (Wed, 16 Oct 2024)
EllapsedTime: 279.6 seconds
RetCode: 0
Status: OK
CheckDir: ChIPComp.Rcheck
Warnings: 0