Package: ChAMP
Version: 2.34.0
Maintainer: Yuan Tian
MaintainerEmail: champ450k at gmail.com
git_url: https://git.bioconductor.org/packages/ChAMP
git_branch: RELEASE_3_19
git_last_commit: fd26db1
git_last_commit_date: 2024-04-30 10:34:10 -0400 (Tue, 30 Apr 2024)