Package: CausalR
Version: 1.36.0
Maintainer: Glyn Bradley <glyn.x.bradley@gsk.com>, Steven Barrett
MaintainerEmail: steven.j.barrett at gsk.com
git_url: https://git.bioconductor.org/packages/CausalR
git_branch: RELEASE_3_19
git_last_commit: bd8a70d
git_last_commit_date: 2024-04-30 10:44:02 -0400 (Tue, 30 Apr 2024)