Package: CaMutQC
Version: 1.0.0
Maintainer: Xin Wang
MaintainerEmail: sylviawang555 at gmail.com
git_url: https://git.bioconductor.org/packages/CaMutQC
git_branch: RELEASE_3_19
git_last_commit: 2544c8d
git_last_commit_date: 2024-04-30 11:55:10 -0400 (Tue, 30 Apr 2024)