Package: CTSV
Version: 1.6.0
Maintainer: Jinge Yu Developer
MaintainerEmail: yjgruc at ruc.edu.cn
git_url: https://git.bioconductor.org/packages/CTSV
git_branch: RELEASE_3_19
git_last_commit: f423f78
git_last_commit_date: 2024-04-30 11:43:15 -0400 (Tue, 30 Apr 2024)