Package: CSSQ
Version: 1.16.0
Maintainer: Fan Lab at Georgia Institute of Technology
MaintainerEmail: yuhong.fan at biology.gatech.edu
git_url: https://git.bioconductor.org/packages/CSSQ
git_branch: RELEASE_3_19
git_last_commit: c1a83d2
git_last_commit_date: 2024-04-30 11:19:38 -0400 (Tue, 30 Apr 2024)