Package: CORREP
Version: 1.70.0
Maintainer: Dongxiao Zhu
MaintainerEmail: doz at stowers-institute.org
git_url: https://git.bioconductor.org/packages/CORREP
git_branch: RELEASE_3_19
git_last_commit: 2020161
git_last_commit_date: 2024-04-30 10:16:46 -0400 (Tue, 30 Apr 2024)