Package: CONSTANd
Version: 1.12.0
Maintainer: Dirk Valkenborg
MaintainerEmail: dirk.valkenborg at uhasselt.be
git_url: https://git.bioconductor.org/packages/CONSTANd
git_branch: RELEASE_3_19
git_last_commit: 8e3519b
git_last_commit_date: 2024-04-30 11:30:30 -0400 (Tue, 30 Apr 2024)