Package: CONFESS
Version: 1.32.0
Maintainer: Diana LOW
MaintainerEmail: lowdiana at gmail.com
git_url: https://git.bioconductor.org/packages/CONFESS
git_branch: RELEASE_3_19
git_last_commit: 7df1a46
git_last_commit_date: 2024-04-30 10:50:05 -0400 (Tue, 30 Apr 2024)