Package: COMPASS
Version: 1.42.0
Maintainer: Greg Finak
MaintainerEmail: gfinak at fhcrc.org
git_url: https://git.bioconductor.org/packages/COMPASS
git_branch: RELEASE_3_19
git_last_commit: b47dd43
git_last_commit_date: 2024-04-30 10:35:03 -0400 (Tue, 30 Apr 2024)