Package: CODEX Version: 1.36.0 Command: rm -rf CODEX.buildbin-libdir && mkdir CODEX.buildbin-libdir && /Users/biocbuild/BBS/utils/build-universal.sh CODEX_1.36.0.tar.gz /Library/Frameworks/R.framework/Resources/bin/R CODEX.buildbin-libdir StartedAt: 2024-10-18 17:52:20 -0400 (Fri, 18 Oct 2024) EndedAt: 2024-10-18 17:53:07 -0400 (Fri, 18 Oct 2024) EllapsedTime: 46.6 seconds RetCode: 0 Status: OK PackageFile: CODEX_1.36.0.tgz PackageFileSize: 1.381 <A href="http://en.wikipedia.org/wiki/MiB" target="_blank">MiB</A>