Package: COCOA
Version: 2.18.0
Command: /home/biocbuild/bbs-3.19-bioc/R/bin/R CMD check --install=check:COCOA.install-out.txt --library=/home/biocbuild/bbs-3.19-bioc/R/site-library --timings COCOA_2.18.0.tar.gz
StartedAt: 2024-10-16 22:57:48 -0400 (Wed, 16 Oct 2024)
EndedAt: 2024-10-16 23:04:14 -0400 (Wed, 16 Oct 2024)
EllapsedTime: 385.7 seconds
RetCode: 0
Status: OK
CheckDir: COCOA.Rcheck
Warnings: 0