Package: COCOA
Version: 2.18.0
Command: /Library/Frameworks/R.framework/Resources/bin/R CMD INSTALL COCOA
StartedAt: 2024-06-09 15:36:58 -0400 (Sun, 09 Jun 2024)
EndedAt: 2024-06-09 15:37:50 -0400 (Sun, 09 Jun 2024)
EllapsedTime: 52.5 seconds
RetCode: 0
Status: OK