Package: COCOA
Version: 2.18.0
Command: /Library/Frameworks/R.framework/Resources/bin/R CMD check --install=check:COCOA.install-out.txt --library=/Library/Frameworks/R.framework/Resources/library --no-vignettes --timings COCOA_2.18.0.tar.gz
StartedAt: 2024-06-09 19:32:53 -0400 (Sun, 09 Jun 2024)
EndedAt: 2024-06-09 19:38:36 -0400 (Sun, 09 Jun 2024)
EllapsedTime: 343.3 seconds
RetCode: 0
Status: OK
CheckDir: COCOA.Rcheck
Warnings: 0