Package: COCOA
Version: 2.18.0
Command: rm -rf COCOA.buildbin-libdir && mkdir COCOA.buildbin-libdir && /Users/biocbuild/BBS/utils/build-universal.sh COCOA_2.18.0.tar.gz /Library/Frameworks/R.framework/Resources/bin/R COCOA.buildbin-libdir
StartedAt: 2024-10-18 17:52:10 -0400 (Fri, 18 Oct 2024)
EndedAt: 2024-10-18 17:53:10 -0400 (Fri, 18 Oct 2024)
EllapsedTime: 60.1 seconds
RetCode: 0
Status: OK
PackageFile: COCOA_2.18.0.tgz
PackageFileSize: 3.551 <A href="http://en.wikipedia.org/wiki/MiB" target="_blank">MiB</A>