Package: CNORode
Version: 1.46.0
Command: /Library/Frameworks/R.framework/Resources/bin/R CMD check --install=check:CNORode.install-out.txt --library=/Library/Frameworks/R.framework/Resources/library --no-vignettes --timings CNORode_1.46.0.tar.gz
StartedAt: 2024-06-10 11:08:15 -0400 (Mon, 10 Jun 2024)
EndedAt: 2024-06-10 11:10:24 -0400 (Mon, 10 Jun 2024)
EllapsedTime: 129.3 seconds
RetCode: 0
Status: WARNINGS
CheckDir: CNORode.Rcheck
Warnings: 2