Package: CNORfuzzy
Version: 1.46.0
Command: /home/biocbuild/bbs-3.19-bioc/R/bin/R CMD INSTALL CNORfuzzy
StartedAt: 2024-10-16 16:18:03 -0400 (Wed, 16 Oct 2024)
EndedAt: 2024-10-16 16:18:11 -0400 (Wed, 16 Oct 2024)
EllapsedTime: 8.2 seconds
RetCode: 0
Status: OK