Package: CNORdt
Version: 1.46.0
Command: E:\biocbuild\bbs-3.19-bioc\R\bin\R.exe CMD check --no-multiarch --install=check:CNORdt.install-out.txt --library=E:\biocbuild\bbs-3.19-bioc\R\library --no-vignettes --timings CNORdt_1.46.0.tar.gz
StartedAt: 2024-10-17 00:08:50 -0400 (Thu, 17 Oct 2024)
EndedAt: 2024-10-17 00:10:56 -0400 (Thu, 17 Oct 2024)
EllapsedTime: 126.1 seconds
RetCode: 0
Status: OK
CheckDir: CNORdt.Rcheck
Warnings: 0