Package: CNORdt
Version: 1.46.0
Command: rm -rf CNORdt.buildbin-libdir && mkdir CNORdt.buildbin-libdir && E:\biocbuild\bbs-3.19-bioc\R\bin\R.exe CMD INSTALL --build --library=CNORdt.buildbin-libdir CNORdt_1.46.0.tar.gz
StartedAt: 2024-10-17 07:33:55 -0400 (Thu, 17 Oct 2024)
EndedAt: 2024-10-17 07:34:07 -0400 (Thu, 17 Oct 2024)
EllapsedTime: 12.1 seconds
RetCode: 0
Status: OK
PackageFile: CNORdt_1.46.0.zip
PackageFileSize: 216.5 <A href="http://en.wikipedia.org/wiki/KiB" target="_blank">KiB</A>