##############################################################################
##############################################################################
###
### Running command:
###
###   /home/biocbuild/R/R-beta-2024-04-15_r86425/bin/R CMD INSTALL CNORdt
###
##############################################################################
##############################################################################


* installing to library ‘/home/biocbuild/R/R-beta-2024-04-15_r86425/site-library’
* installing *source* package ‘CNORdt’ ...
** using staged installation
** libs
using C compiler: ‘gcc (GCC) 10.3.1’
gcc -I"/home/biocbuild/R/R-beta-2024-04-15_r86425/include" -DNDEBUG   -I/usr/local/include    -fPIC  -g -O2  -Wall -c simulatorDT.c -o simulatorDT.o
simulatorDT.c: In function ‘simulatorDT’:
simulatorDT.c:55:6: warning: unused variable ‘nTimes’ [-Wunused-variable]
   55 |  int nTimes = INTEGER(nTimes_in)[0];
      |      ^~~~~~
simulatorDT.c:53:6: warning: unused variable ‘nSignals’ [-Wunused-variable]
   53 |  int nSignals = INTEGER(nSignals_in)[0];
      |      ^~~~~~~~
gcc -shared -L/home/biocbuild/R/R-beta-2024-04-15_r86425/lib -L/usr/local/lib -o CNORdt.so simulatorDT.o -L/home/biocbuild/R/R-beta-2024-04-15_r86425/lib -lR
installing to /home/biocbuild/R/R-beta-2024-04-15_r86425/site-library/00LOCK-CNORdt/00new/CNORdt/libs
** R
** data
** inst
** byte-compile and prepare package for lazy loading
** help
*** installing help indices
** building package indices
** installing vignettes
** testing if installed package can be loaded from temporary location
** checking absolute paths in shared objects and dynamic libraries
** testing if installed package can be loaded from final location
** testing if installed package keeps a record of temporary installation path
* DONE (CNORdt)