Package: CNORdt
Version: 1.46.0
Command: /home/biocbuild/R/R-beta-2024-04-15_r86425/bin/R CMD check --install=check:CNORdt.install-out.txt --library=/home/biocbuild/R/R-beta-2024-04-15_r86425/site-library --no-vignettes --timings CNORdt_1.46.0.tar.gz
StartedAt: 2024-05-09 05:59:54 -0000 (Thu, 09 May 2024)
EndedAt: 2024-05-09 06:01:53 -0000 (Thu, 09 May 2024)
EllapsedTime: 118.2 seconds
RetCode: 0
Status: OK
CheckDir: CNORdt.Rcheck
Warnings: 0