Package: CNORdt
Version: 1.46.0
Command: /home/biocbuild/R/R-beta-2024-04-15_r86425/bin/R CMD build --keep-empty-dirs --no-resave-data CNORdt
StartedAt: 2024-05-08 23:25:11 -0000 (Wed, 08 May 2024)
EndedAt: 2024-05-08 23:25:55 -0000 (Wed, 08 May 2024)
EllapsedTime: 44.1 seconds
RetCode: 0
Status: OK
PackageFile: CNORdt_1.46.0.tar.gz
PackageFileSize: 310.4 <A href="http://en.wikipedia.org/wiki/KiB" target="_blank">KiB</A>