Package: CNORdt
Version: 1.46.0
Command: /Library/Frameworks/R.framework/Resources/bin/R CMD INSTALL CNORdt
StartedAt: 2024-10-16 17:14:12 -0400 (Wed, 16 Oct 2024)
EndedAt: 2024-10-16 17:14:21 -0400 (Wed, 16 Oct 2024)
EllapsedTime: 8.9 seconds
RetCode: 0
Status: OK