Package: CNORdt
Version: 1.46.0
Command: /Library/Frameworks/R.framework/Resources/bin/R CMD check --install=check:CNORdt.install-out.txt --library=/Library/Frameworks/R.framework/Resources/library --no-vignettes --timings CNORdt_1.46.0.tar.gz
StartedAt: 2024-10-17 16:42:03 -0400 (Thu, 17 Oct 2024)
EndedAt: 2024-10-17 16:44:13 -0400 (Thu, 17 Oct 2024)
EllapsedTime: 129.9 seconds
RetCode: 0
Status: OK
CheckDir: CNORdt.Rcheck
Warnings: 0