Package: CINdex
Version: 1.32.0
Command: /home/biocbuild/R/R-beta-2024-04-15_r86425/bin/R CMD check --install=check:CINdex.install-out.txt --library=/home/biocbuild/R/R-beta-2024-04-15_r86425/site-library --no-vignettes --timings CINdex_1.32.0.tar.gz
StartedAt: 2024-05-09 05:50:22 -0000 (Thu, 09 May 2024)
EndedAt: 2024-05-09 05:52:51 -0000 (Thu, 09 May 2024)
EllapsedTime: 148.2 seconds
RetCode: 0
Status: WARNINGS
CheckDir: CINdex.Rcheck
Warnings: 1