Package: CINdex
Version: 1.32.0
Command: /Library/Frameworks/R.framework/Resources/bin/R CMD INSTALL CINdex
StartedAt: 2024-06-09 15:19:16 -0400 (Sun, 09 Jun 2024)
EndedAt: 2024-06-09 15:19:52 -0400 (Sun, 09 Jun 2024)
EllapsedTime: 35.8 seconds
RetCode: 0
Status: OK