Package: CINdex
Version: 1.32.0
Command: /Library/Frameworks/R.framework/Resources/bin/R CMD check --install=check:CINdex.install-out.txt --library=/Library/Frameworks/R.framework/Resources/library --no-vignettes --timings CINdex_1.32.0.tar.gz
StartedAt: 2024-06-10 10:37:04 -0400 (Mon, 10 Jun 2024)
EndedAt: 2024-06-10 10:41:13 -0400 (Mon, 10 Jun 2024)
EllapsedTime: 248.6 seconds
RetCode: 0
Status: WARNINGS
CheckDir: CINdex.Rcheck
Warnings: 1