Package: CINdex
Version: 1.32.0
Command: rm -rf CINdex.buildbin-libdir && mkdir CINdex.buildbin-libdir && /Users/biocbuild/BBS/utils/build-universal.sh CINdex_1.32.0.tar.gz /Library/Frameworks/R.framework/Resources/bin/R CINdex.buildbin-libdir
StartedAt: 2024-06-11 10:35:07 -0400 (Tue, 11 Jun 2024)
EndedAt: 2024-06-11 10:36:02 -0400 (Tue, 11 Jun 2024)
EllapsedTime: 54.3 seconds
RetCode: 0
Status: OK
PackageFile: CINdex_1.32.0.tgz
PackageFileSize: 18.03 <A href="http://en.wikipedia.org/wiki/MiB" target="_blank">MiB</A>