Package: CIMICE
Version: 1.12.0
Command: /Library/Frameworks/R.framework/Resources/bin/R CMD INSTALL CIMICE
StartedAt: 2024-06-09 15:33:05 -0400 (Sun, 09 Jun 2024)
EndedAt: 2024-06-09 15:33:18 -0400 (Sun, 09 Jun 2024)
EllapsedTime: 12.6 seconds
RetCode: 0
Status: OK