Package: CIMICE
Version: 1.12.0
Command: /Library/Frameworks/R.framework/Resources/bin/R CMD build --keep-empty-dirs --no-resave-data CIMICE
StartedAt: 2024-06-09 16:11:24 -0400 (Sun, 09 Jun 2024)
EndedAt: 2024-06-09 16:11:56 -0400 (Sun, 09 Jun 2024)
EllapsedTime: 32.3 seconds
RetCode: 0
Status: OK
PackageFile: CIMICE_1.12.0.tar.gz
PackageFileSize: 1.558 <A href="http://en.wikipedia.org/wiki/MiB" target="_blank">MiB</A>