Package: CHETAH
Version: 1.20.0
Command: chmod a+r CHETAH -R && F:\biocbuild\bbs-3.19-bioc\R\bin\R.exe CMD build --keep-empty-dirs --no-resave-data CHETAH
StartedAt: 2024-06-26 17:45:04 -0400 (Wed, 26 Jun 2024)
EndedAt: 2024-06-26 17:46:25 -0400 (Wed, 26 Jun 2024)
EllapsedTime: 81.4 seconds
RetCode: 0
Status: OK
PackageFile: CHETAH_1.20.0.tar.gz
PackageFileSize: 3.258 <A href="http://en.wikipedia.org/wiki/MiB" target="_blank">MiB</A>