##############################################################################
##############################################################################
###
### Running command:
###
###   chmod a+r CHETAH -R && F:\biocbuild\bbs-3.19-bioc\R\bin\R.exe CMD build --keep-empty-dirs --no-resave-data CHETAH
###
##############################################################################
##############################################################################


* checking for file 'CHETAH/DESCRIPTION' ... OK
* preparing 'CHETAH':
* checking DESCRIPTION meta-information ... OK
* installing the package to build vignettes
* creating vignettes ... OK
* checking for LF line-endings in source and make files and shell scripts
* checking for empty or unneeded directories
* looking to see if a 'data/datalist' file should be added
* building 'CHETAH_1.20.0.tar.gz'