##############################################################################
##############################################################################
###
### Running command:
###
###   rm -rf CHETAH.buildbin-libdir && mkdir CHETAH.buildbin-libdir && F:\biocbuild\bbs-3.19-bioc\R\bin\R.exe CMD INSTALL --build --library=CHETAH.buildbin-libdir CHETAH_1.20.0.tar.gz
###
##############################################################################
##############################################################################


* installing *source* package 'CHETAH' ...
** using staged installation
** R
** data
** inst
** byte-compile and prepare package for lazy loading
** help
*** installing help indices
** building package indices
** installing vignettes
** testing if installed package can be loaded from temporary location
** testing if installed package can be loaded from final location
** testing if installed package keeps a record of temporary installation path
* MD5 sums
packaged installation of 'CHETAH' as CHETAH_1.20.0.zip
* DONE (CHETAH)