Package: CHETAH
Version: 1.20.0
Command: /Library/Frameworks/R.framework/Resources/bin/R CMD check --install=check:CHETAH.install-out.txt --library=/Library/Frameworks/R.framework/Resources/library --no-vignettes --timings CHETAH_1.20.0.tar.gz
StartedAt: 2024-06-09 19:22:01 -0400 (Sun, 09 Jun 2024)
EndedAt: 2024-06-09 19:26:09 -0400 (Sun, 09 Jun 2024)
EllapsedTime: 247.5 seconds
RetCode: 0
Status: OK
CheckDir: CHETAH.Rcheck
Warnings: 0