Package: CHETAH
Version: 1.20.0
Command: rm -rf CHETAH.buildbin-libdir && mkdir CHETAH.buildbin-libdir && /Users/biocbuild/BBS/utils/build-universal.sh CHETAH_1.20.0.tar.gz /Library/Frameworks/R.framework/Resources/bin/R CHETAH.buildbin-libdir
StartedAt: 2024-06-10 00:10:51 -0400 (Mon, 10 Jun 2024)
EndedAt: 2024-06-10 00:11:29 -0400 (Mon, 10 Jun 2024)
EllapsedTime: 38.1 seconds
RetCode: 0
Status: OK
PackageFile: CHETAH_1.20.0.tgz
PackageFileSize: 3.551 <A href="http://en.wikipedia.org/wiki/MiB" target="_blank">MiB</A>