Package: CHETAH
Version: 1.20.0
Maintainer: Jurrian de Kanter
MaintainerEmail: jurriandekanter at gmail.com
git_url: https://git.bioconductor.org/packages/CHETAH
git_branch: RELEASE_3_19
git_last_commit: 5606910
git_last_commit_date: 2024-04-30 11:43:40 -0400 (Tue, 30 Apr 2024)