Package: CGHregions
Version: 1.62.0
Maintainer: Sjoerd Vosse
MaintainerEmail: info at vossewebdevelopment.nl
git_url: https://git.bioconductor.org/packages/CGHregions
git_branch: RELEASE_3_19
git_last_commit: fe8e8a8
git_last_commit_date: 2024-04-30 10:18:08 -0400 (Tue, 30 Apr 2024)