Package: CFAssay
Version: 1.38.0
Command: /Library/Frameworks/R.framework/Resources/bin/R CMD INSTALL CFAssay
StartedAt: 2024-06-09 15:07:37 -0400 (Sun, 09 Jun 2024)
EndedAt: 2024-06-09 15:07:57 -0400 (Sun, 09 Jun 2024)
EllapsedTime: 20.5 seconds
RetCode: 0
Status: OK