Package: CFAssay
Version: 1.38.0
Command: /Library/Frameworks/R.framework/Resources/bin/R CMD INSTALL CFAssay
StartedAt: 2024-06-09 15:21:59 -0400 (Sun, 09 Jun 2024)
EndedAt: 2024-06-09 15:22:03 -0400 (Sun, 09 Jun 2024)
EllapsedTime: 4.4 seconds
RetCode: 0
Status: OK