Package: CFAssay
Version: 1.38.0
Command: /Library/Frameworks/R.framework/Resources/bin/R CMD build --keep-empty-dirs --no-resave-data CFAssay
StartedAt: 2024-06-09 19:16:05 -0400 (Sun, 09 Jun 2024)
EndedAt: 2024-06-09 19:16:18 -0400 (Sun, 09 Jun 2024)
EllapsedTime: 13.0 seconds
RetCode: 0
Status: OK
PackageFile: CFAssay_1.38.0.tar.gz
PackageFileSize: 322.5 <A href="http://en.wikipedia.org/wiki/KiB" target="_blank">KiB</A>