Package: CFAssay
Version: 1.38.0
Command: /Library/Frameworks/R.framework/Resources/bin/R CMD INSTALL CFAssay
StartedAt: 2024-10-16 15:51:50 -0400 (Wed, 16 Oct 2024)
EndedAt: 2024-10-16 15:51:54 -0400 (Wed, 16 Oct 2024)
EllapsedTime: 3.5 seconds
RetCode: 0
Status: OK