Package: CBEA
Version: 1.4.0
Maintainer: Quang Nguyen
MaintainerEmail: quangpmnguyen at gmail.com
git_url: https://git.bioconductor.org/packages/CBEA
git_branch: RELEASE_3_19
git_last_commit: 29bb063
git_last_commit_date: 2024-04-30 11:41:01 -0400 (Tue, 30 Apr 2024)